BEGIN:VCALENDAR
VERSION:2.0
PRODID:spatie/icalendar-generator
DESCRIPTION:Events from Edmonton Mopar Association
X-WR-CALDESC:Events from Edmonton Mopar Association
REFRESH-INTERVAL;VALUE=DURATION:PT1440M
X-PUBLISHED-TTL:PT1440M
BEGIN:VTIMEZONE
TZID:Etc/GMT+0
BEGIN:STANDARD
DTSTART:20241112T100000Z
TZOFFSETFROM:+0000
TZOFFSETTO:+0000
END:STANDARD
END:VTIMEZONE
BEGIN:VTIMEZONE
TZID:UTC
BEGIN:STANDARD
DTSTART:20250725T124929Z
TZOFFSETFROM:+0000
TZOFFSETTO:+0000
END:STANDARD
END:VTIMEZONE
BEGIN:VEVENT
UID:37-14
DTSTAMP:20260421T124929Z
SUMMARY:Central Mopar Association
LOCATION:
ORGANIZER;CN=adminEMA:MAILTO:info@emawmm.com
DTSTART;TZID=Etc/GMT+0:20250809T100000
DTEND;TZID=Etc/GMT+0:20250809T110000
X-ALT-DESC;FMTTYPE=TEXT/HTML:Meet at Leduc Weigh scale at 8:00AM. We will c
 ruise down as a group and be part of the camaraderie of our fellow clubs s
 how. (See Map)
CATEGORIES:CLUB CONNECTIONS
URL;VALUE=URI:https://edmontonmoparassociation.com/mc-events/central-mopar-
 association/
METHOD:PUBLISH
END:VEVENT
END:VCALENDAR