BEGIN:VCALENDAR
VERSION:2.0
PRODID:spatie/icalendar-generator
DESCRIPTION:Events from Edmonton Mopar Association
X-WR-CALDESC:Events from Edmonton Mopar Association
REFRESH-INTERVAL;VALUE=DURATION:PT1440M
X-PUBLISHED-TTL:PT1440M
BEGIN:VTIMEZONE
TZID:Etc/GMT+0
BEGIN:STANDARD
DTSTART:20241004T100000Z
TZOFFSETFROM:+0000
TZOFFSETTO:+0000
END:STANDARD
END:VTIMEZONE
BEGIN:VTIMEZONE
TZID:UTC
BEGIN:STANDARD
DTSTART:20250726T090215Z
TZOFFSETFROM:+0000
TZOFFSETTO:+0000
END:STANDARD
END:VTIMEZONE
BEGIN:VEVENT
UID:16-7
DTSTAMP:20260422T090215Z
SUMMARY:Canada Day Show N' Shine
LOCATION:Mainstreet   Stony Plain Alberta
ORGANIZER;CN=adminEMA:MAILTO:info@emawmm.com
DTSTART;TZID=Etc/GMT+0:20250701T100000
DTEND;TZID=Etc/GMT+0:20250701T110000
X-ALT-DESC;FMTTYPE=TEXT/HTML:
CATEGORIES:MEMBER CRUISES
URL;VALUE=URI:https://edmontonmoparassociation.com/mc-events/canada-day-sho
 w-n-shine/
METHOD:PUBLISH
END:VEVENT
END:VCALENDAR