BEGIN:VCALENDAR
VERSION:2.0
PRODID:spatie/icalendar-generator
DESCRIPTION:Events from Edmonton Mopar Association
X-WR-CALDESC:Events from Edmonton Mopar Association
REFRESH-INTERVAL;VALUE=DURATION:PT1440M
X-PUBLISHED-TTL:PT1440M
BEGIN:VTIMEZONE
TZID:Etc/GMT+0
BEGIN:STANDARD
DTSTART:20240827T100000Z
TZOFFSETFROM:+0000
TZOFFSETTO:+0000
END:STANDARD
END:VTIMEZONE
BEGIN:VTIMEZONE
TZID:UTC
BEGIN:STANDARD
DTSTART:20250725T172325Z
TZOFFSETFROM:+0000
TZOFFSETTO:+0000
END:STANDARD
END:VTIMEZONE
BEGIN:VEVENT
UID:14-5
DTSTAMP:20260421T172325Z
SUMMARY:3 Club Car Show
LOCATION:Black Jacks Roadhouse   Nisku  Alberta
ORGANIZER;CN=adminEMA:MAILTO:info@emawmm.com
DTSTART;TZID=Etc/GMT+0:20250524T100000
DTEND;TZID=Etc/GMT+0:20250524T110000
X-ALT-DESC;FMTTYPE=TEXT/HTML:
CATEGORIES:CLUB PROMOTIONS
URL;VALUE=URI:https://edmontonmoparassociation.com/mc-events/3-club-car-sho
 w/
METHOD:PUBLISH
END:VEVENT
END:VCALENDAR