BEGIN:VCALENDAR
VERSION:2.0
PRODID:spatie/icalendar-generator
DESCRIPTION:Events from Edmonton Mopar Association
X-WR-CALDESC:Events from Edmonton Mopar Association
REFRESH-INTERVAL;VALUE=DURATION:PT1440M
X-PUBLISHED-TTL:PT1440M
BEGIN:VTIMEZONE
TZID:Etc/GMT+0
BEGIN:STANDARD
DTSTART:20240903T110000Z
TZOFFSETFROM:+0000
TZOFFSETTO:+0000
END:STANDARD
END:VTIMEZONE
BEGIN:VTIMEZONE
TZID:UTC
BEGIN:STANDARD
DTSTART:20250725T142628Z
TZOFFSETFROM:+0000
TZOFFSETTO:+0000
END:STANDARD
END:VTIMEZONE
BEGIN:VEVENT
UID:19-10
DTSTAMP:20260421T142628Z
SUMMARY:Season Kick Off and BBQ!
LOCATION:
ORGANIZER;CN=adminEMA:MAILTO:info@emawmm.com
DTSTART;TZID=Etc/GMT+0:20250531T110000
DTEND;TZID=Etc/GMT+0:20250531T210000
X-ALT-DESC;FMTTYPE=TEXT/HTML:Please join us for the season member BBQ kick 
 off! Bring a lawn chair and EMA will provide the rest! Family members are 
 welcome\, let us know how many will be attending by FILLING OUT THIS FORM!
 !! https://forms.gle/sQgCefzJ78ii6QDU6  We will meet at: Crosstown Chrysl
 er (see map in photo). Meetup Time: 11:00am. BBQ starts at 1-1:30pm.&amp;helli
 p\;
CATEGORIES:MEMBER EVENTS
URL;VALUE=URI:https://edmontonmoparassociation.com/mc-events/season-kick-of
 f-and-bbq/
METHOD:PUBLISH
END:VEVENT
END:VCALENDAR